0.2500000000
0.0000000000
0.0000000000
-0.2500000000
508982.1250000000
354121.6250000000
