0.2500000000
0.0000000000
0.0000000000
-0.2500000000
509065.1250000000
356398.3750000000
