0.2500000000
0.0000000000
0.0000000000
-0.2500000000
505622.3750000000
354244.1250000000
