0.2500000000
0.0000000000
0.0000000000
-0.2500000000
505705.6250000000
356520.8750000000
