0.2500000000
0.0000000000
0.0000000000
-0.2500000000
525943.8750000000
358070.1250000000
