0.2500000000
0.0000000000
0.0000000000
-0.2500000000
526025.1250000000
360346.6250000000
