0.2500000000
0.0000000000
0.0000000000
-0.2500000000
522584.6250000000
358190.1250000000
