0.2500000000
0.0000000000
0.0000000000
-0.2500000000
522666.1250000000
360466.6250000000
