0.2500000000
0.0000000000
0.0000000000
-0.2500000000
526106.1250000000
362623.3750000000
