0.2500000000
0.0000000000
0.0000000000
-0.2500000000
526187.3750000000
364900.1250000000
