0.2500000000
0.0000000000
0.0000000000
-0.2500000000
522747.6250000000
362743.3750000000
