0.2500000000
0.0000000000
0.0000000000
-0.2500000000
522829.1250000000
365020.1250000000
