0.2500000000
0.0000000000
0.0000000000
-0.2500000000
522910.6250000000
367296.8750000000
