0.2500000000
0.0000000000
0.0000000000
-0.2500000000
519225.3750000000
358310.3750000000
