0.2500000000
0.0000000000
0.0000000000
-0.2500000000
519307.3750000000
360587.1250000000
