0.2500000000
0.0000000000
0.0000000000
-0.2500000000
515866.3750000000
358431.3750000000
