0.2500000000
0.0000000000
0.0000000000
-0.2500000000
515948.3750000000
360708.1250000000
