0.2500000000
0.0000000000
0.0000000000
-0.2500000000
512507.1250000000
358552.8750000000
