0.2500000000
0.0000000000
0.0000000000
-0.2500000000
512589.6250000000
360829.6250000000
