0.2500000000
0.0000000000
0.0000000000
-0.2500000000
509147.8750000000
358674.8750000000
