0.2500000000
0.0000000000
0.0000000000
-0.2500000000
509230.8750000000
360951.6250000000
