0.2500000000
0.0000000000
0.0000000000
-0.2500000000
505788.8750000000
358797.6250000000
