0.2500000000
0.0000000000
0.0000000000
-0.2500000000
505872.1250000000
361074.1250000000
