0.2500000000
0.0000000000
0.0000000000
-0.2500000000
519389.1250000000
362863.8750000000
