0.2500000000
0.0000000000
0.0000000000
-0.2500000000
519470.8750000000
365140.6250000000
