0.2500000000
0.0000000000
0.0000000000
-0.2500000000
516030.6250000000
362984.8750000000
