0.2500000000
0.0000000000
0.0000000000
-0.2500000000
516112.8750000000
365261.3750000000
