0.2500000000
0.0000000000
0.0000000000
-0.2500000000
512672.1250000000
363106.3750000000
