0.2500000000
0.0000000000
0.0000000000
-0.2500000000
512754.6250000000
365382.8750000000
