0.2500000000
0.0000000000
0.0000000000
-0.2500000000
509313.6250000000
363228.3750000000
