0.2500000000
0.0000000000
0.0000000000
-0.2500000000
509396.6250000000
365504.8750000000
