0.2500000000
0.0000000000
0.0000000000
-0.2500000000
505955.1250000000
363350.8750000000
