0.2500000000
0.0000000000
0.0000000000
-0.2500000000
506038.3750000000
365627.3750000000
