0.2500000000
0.0000000000
0.0000000000
-0.2500000000
519552.8750000000
367417.1250000000
