0.2500000000
0.0000000000
0.0000000000
-0.2500000000
519634.6250000000
369693.8750000000
