0.2500000000
0.0000000000
0.0000000000
-0.2500000000
516194.8750000000
367538.1250000000
