0.2500000000
0.0000000000
0.0000000000
-0.2500000000
516277.1250000000
369814.8750000000
