0.2500000000
0.0000000000
0.0000000000
-0.2500000000
512837.1250000000
367659.6250000000
