0.2500000000
0.0000000000
0.0000000000
-0.2500000000
512919.6250000000
369936.1250000000
