0.2500000000
0.0000000000
0.0000000000
-0.2500000000
509479.3750000000
367781.6250000000
