0.2500000000
0.0000000000
0.0000000000
-0.2500000000
509562.3750000000
370058.1250000000
