0.2500000000
0.0000000000
0.0000000000
-0.2500000000
506121.6250000000
367904.1250000000
