0.2500000000
0.0000000000
0.0000000000
-0.2500000000
506204.8750000000
370180.6250000000
