0.2500000000
0.0000000000
0.0000000000
-0.2500000000
516359.3750000000
372091.3750000000
