0.2500000000
0.0000000000
0.0000000000
-0.2500000000
516441.6250000000
374368.1250000000
