0.2500000000
0.0000000000
0.0000000000
-0.2500000000
513002.3750000000
372212.8750000000
