0.2500000000
0.0000000000
0.0000000000
-0.2500000000
513084.8750000000
374489.6250000000
