0.2500000000
0.0000000000
0.0000000000
-0.2500000000
509645.1250000000
372334.8750000000
