0.2500000000
0.0000000000
0.0000000000
-0.2500000000
509728.1250000000
374611.3750000000
