0.2500000000
0.0000000000
0.0000000000
-0.2500000000
506288.1250000000
372457.3750000000
